BEGIN:VCALENDAR
VERSION:2.0
PRODID:-//ΠΟΛΥΘΕΑΣΗ - ECPv4.6.18//NONSGML v1.0//EN
CALSCALE:GREGORIAN
METHOD:PUBLISH
X-WR-CALNAME:ΠΟΛΥΘΕΑΣΗ
X-ORIGINAL-URL:https://polytheasi.gr
X-WR-CALDESC:ΠΟΛΥΘΕΑΣΗ - Εκδηλώσεις
BEGIN:VEVENT
DTSTART;TZID=Europe/Athens:20170825T170000
DTEND;TZID=Europe/Athens:20170825T180000
DTSTAMP:20260421T095853
CREATED:20171229T210347Z
LAST-MODIFIED:20180101T170636Z
UID:569-1503680400-1503684000@polytheasi.gr
SUMMARY:Γυμνάζομαι με τους γονείς μου
DESCRIPTION:\nΠαρασκευή 25/8 : «Γυμνάζομαι με τους γονείς μου»\nΔιάρκεια 60΄ / Δωρεάν / Ώρα έναρξης : 18: 00 μ.μ.\nΥπεύθυνη δράσεων \, Μαρία Σταύρου \n
URL:https://polytheasi.gr/event/%ce%b3%cf%85%ce%bc%ce%bd%ce%ac%ce%b6%ce%bf%ce%bc%ce%b1%ce%b9-%ce%bc%ce%b5-%cf%84%ce%bf%cf%85%cf%82-%ce%b3%ce%bf%ce%bd%ce%b5%ce%af%cf%82-%ce%bc%ce%bf%cf%85/
LOCATION:Πολυθέαση\, Βέροια\, Ελλάδα
ATTACH;FMTTYPE=image/jpeg:https://polytheasi.gr/wp-content/uploads/2017/12/-ce-b3-cf-85-ce-bc-ce-bd-ce-ac-ce-b6-ce-bf-ce-bc-ce-b1-ce-b9--ce-bc-ce-b5--cf-84-ce-bf-cf-85-cf-82--ce-b3-ce-bf-ce-bd-ce-b5-ce-af-cf-82--ce-bc-ce-bf-cf-85.jpg
END:VEVENT
END:VCALENDAR