BEGIN:VCALENDAR
VERSION:2.0
PRODID:-//ΠΟΛΥΘΕΑΣΗ - ECPv4.6.18//NONSGML v1.0//EN
CALSCALE:GREGORIAN
METHOD:PUBLISH
X-WR-CALNAME:ΠΟΛΥΘΕΑΣΗ
X-ORIGINAL-URL:https://polytheasi.gr
X-WR-CALDESC:ΠΟΛΥΘΕΑΣΗ - Εκδηλώσεις
BEGIN:VEVENT
DTSTART;TZID=Europe/Athens:20170821T173000
DTEND;TZID=Europe/Athens:20170821T183000
DTSTAMP:20260421T090045
CREATED:20171229T210727Z
LAST-MODIFIED:20180101T170641Z
UID:573-1503336600-1503340200@polytheasi.gr
SUMMARY:Ενίσχυση προσοχής\, συγκέντρωσης \, μνήμης
DESCRIPTION:\nΔευτέρα 21/8 : Ενίσχυση προσοχής\, συγκέντρωσης & μνήμης με ασκήσεις\, νέες γνωριμίες και παιχνιδίσματα με τις διαπροσωπικές μας σχέσεις. Διάρκεια 60΄ / Δωρεάν / Ώρα έναρξης : 17.30 μ.μ.\nΆνετη ενδυμασία\nΥΓ. Η δράση αφορά κυρίως ενήλικες\, θα συμπεριληφθούν όμως και τα νεότερα μέλη των οικογενειών\, εφόσον προσέλθουν. \nΥπεύθυνη δράσεων\, Μαρία Σταύρου \n
URL:https://polytheasi.gr/event/%ce%b5%ce%bd%ce%af%cf%83%cf%87%cf%85%cf%83%ce%b7-%cf%80%cf%81%ce%bf%cf%83%ce%bf%cf%87%ce%ae%cf%82-%cf%83%cf%85%ce%b3%ce%ba%ce%ad%ce%bd%cf%84%cf%81%cf%89%cf%83%ce%b7%cf%82-%ce%bc%ce%bd%ce%ae%ce%bc/
LOCATION:Πολυθέαση\, Βέροια\, Ελλάδα
ATTACH;FMTTYPE=image/jpeg:https://polytheasi.gr/wp-content/uploads/2017/12/20770260_1491562047590247_2673935448815573060_n.jpg
END:VEVENT
END:VCALENDAR