BEGIN:VCALENDAR
VERSION:2.0
PRODID:-//ΠΟΛΥΘΕΑΣΗ - ECPv4.6.18//NONSGML v1.0//EN
CALSCALE:GREGORIAN
METHOD:PUBLISH
X-WR-CALNAME:ΠΟΛΥΘΕΑΣΗ
X-ORIGINAL-URL:https://polytheasi.gr
X-WR-CALDESC:ΠΟΛΥΘΕΑΣΗ - Εκδηλώσεις
BEGIN:VEVENT
DTSTART;TZID=Europe/Athens:20170827T113000
DTEND;TZID=Europe/Athens:20170827T143000
DTSTAMP:20260421T113122
CREATED:20171229T204706Z
LAST-MODIFIED:20180101T170631Z
UID:565-1503833400-1503844200@polytheasi.gr
SUMMARY:3 ώρες Παιχνίδι Κρυμμένου Θησαυρού για παιδιά δημοτικού
DESCRIPTION:\nΕίσαι καλός κυνηγός;;; Έλα να βρεις τον χαμένο θησαυρό !! Για παιδιά δημοτικού. Διάρκεια 3 ώρες / Συμμετοχή 5 ευρώ /\nΑπαραίτητη η δήλωση συμμετοχής μέχρι την Παρασκευή 25/8 το πρωί \, στα γραφεία του Α.Σ. Πυγμή\, Αγ. Γεωργίου 4 από τις 11.00 π.μ. – 13¨00 μ.μ. τηλ 23310 20868 / 697 28 4 291 κα. Όλγα. ή μέχρι την Παρασκευή το βράδυ στο Πάρκο Πολυθέαση. \nΏρα έναρξης παιχνιδιού : 11.30 π.μ. Ώρα προσέλευσης 11.15 π.μ.\nΔιάλειμμα για σνακ -χυμούς\, 14:30 λήξη παιχνιδιού.\nΜε την Ελευθερία Τριανταφυλλίδου \n
URL:https://polytheasi.gr/event/3-%cf%8e%cf%81%ce%b5%cf%82-%cf%80%ce%b1%ce%b9%cf%87%ce%bd%ce%af%ce%b4%ce%b9-%ce%ba%cf%81%cf%85%ce%bc%ce%bc%ce%ad%ce%bd%ce%bf%cf%85-%ce%b8%ce%b7%cf%83%ce%b1%cf%85%cf%81%ce%bf%cf%8d-%ce%b3%ce%b9%ce%b1/
LOCATION:Πολυθέαση\, Βέροια\, Ελλάδα
ATTACH;FMTTYPE=image/jpeg:https://polytheasi.gr/wp-content/uploads/2017/12/20914567_1497083353704783_7236592794484703914_n.jpg
END:VEVENT
END:VCALENDAR